BEGIN:VCALENDAR
VERSION:2.0
PRODID:-//eventon.com NONSGML v1.0//EN
CALSCALE:GREGORIAN
METHOD:PUBLISH
BEGIN:VEVENT
UID:69e9e7f337ee6
DTSTAMP:20260423T093547Z
DTSTART:20241101
DTEND:20241102
LOCATION:Palais des congrès de Montréal 1001 Place Jean-Paul-Riopelle\,  Montréal\,  CA H2Z 1X7 Phone
SUMMARY:DRC Travel and Fashion Show
DESCRIPTION:CONFERENCE PICTURE GALLERY CONFERENCE VIDEO1 (Click)     CO
 NFERENCE VIDEO2 (Click) &nbsp;\nhttps://ccelecarrefour.org/fr/events/drc-tr
 avel-and-fashion-show/
URL:https://ccelecarrefour.org/fr/events/drc-travel-and-fashion-show/
END:VEVENT
END:VCALENDAR