BEGIN:VCALENDAR
VERSION:2.0
PRODID:-//eventon.com NONSGML v1.0//EN
CALSCALE:GREGORIAN
METHOD:PUBLISH
BEGIN:VEVENT
UID:69e83820f3e83
DTSTAMP:20260422T025320Z
DTSTART:20240817T130000Z
DTEND:20240817T220000Z
LOCATION:
SUMMARY:CCE le Carrefour educational event
DESCRIPTION:“Promo-Scolaire “: Musique\,  trivial games\,  schools stuf
 f sale. There was 3 big prizes to win. We gave away notebooks as well Click
  to watch a video of the proceedings https://ccelecarrefour.org/wp-content/u
 ploads/2024/08/Video.mov &nbsp;\nhttps://ccelecarrefour.org/fr/events/cce-l
 e-carrefour-educational-event-2/
URL:https://ccelecarrefour.org/fr/events/cce-le-carrefour-educational-event-2/
END:VEVENT
END:VCALENDAR